BEGIN:VCALENDAR
VERSION:2.0
METHOD:PUBLISH
PRODID:-//Telerik Inc.//Sitefinity CMS 15.1//EN
BEGIN:VEVENT
DESCRIPTION:Coordinators are needed to oversee specific competitive events 
 at the 2025 National TSA Conference. To be considered for this role\, indi
 viduals must have 1) experience coordinating an event at the state level\,
  and 2) the written support of their TSA state advisor. Those approved by 
 national TSA will receive a stipend of $250 per event (per level) for serv
 ing and waiver of their conference registration fee ($135 value). Please c
 ontact Kristin Rausch\, CRC Event Coordinator Facilitator\, for more infor
 mation.https://conta.cc/3H0fUIX
DTEND;VALUE=DATE:20250517
DTSTAMP:20260422T164001Z
DTSTART;VALUE=DATE:20250516
LOCATION:
SEQUENCE:0
SUMMARY:📧Competitive Event Coordinators
UID:RFCALITEM639124584018130161
X-ALT-DESC;FMTTYPE=text/html:<p>Coordinators are needed to oversee specific
  competitive events at the 2025 National TSA Conference. To be considered 
 for this role\, individuals must have 1) experience coordinating an event 
 at the state level\, and 2) the written support of their TSA state advisor
 . Those approved by national TSA will receive a stipend of $250 per event 
 (per level) for serving and waiver of their conference registration fee ($
 135 value). Please contact <a target="_blank" href="mailto:krausch@tsaweb.
 org"><strong>Kristin Rausch</strong></a>\, CRC Event Coordinator Facilitat
 or\, for more information.</p><p><a href="https://conta.cc/3H0fUIX" data-q
 e-id="permalink-link" target="_blank" rel="noreferrer">https://conta.cc/3H
 0fUIX</a></p>
END:VEVENT
END:VCALENDAR
